BEGIN:VCALENDAR
VERSION:2.0
PRODID:-//林業・木材製造業労働災害防止協会 長野県支部 - ECPv5.12.2//NONSGML v1.0//EN
CALSCALE:GREGORIAN
METHOD:PUBLISH
X-WR-CALNAME:林業・木材製造業労働災害防止協会 長野県支部
X-ORIGINAL-URL:https://rinsaibou-nagano.jp
X-WR-CALDESC:林業・木材製造業労働災害防止協会 長野県支部 のイベント
REFRESH-INTERVAL;VALUE=DURATION:PT1H
X-Robots-Tag:noindex
X-PUBLISHED-TTL:PT1H
BEGIN:VTIMEZONE
TZID:Asia/Tokyo
BEGIN:STANDARD
TZOFFSETFROM:+0900
TZOFFSETTO:+0900
TZNAME:JST
DTSTART:20220101T000000
END:STANDARD
END:VTIMEZONE
BEGIN:VEVENT
DTSTART;TZID=Asia/Tokyo:20220210T090000
DTEND;TZID=Asia/Tokyo:20220210T160000
DTSTAMP:20260424T213417
CREATED:20211209T062342Z
LAST-MODIFIED:20220318T070255Z
UID:595-1644483600-1644508800@rinsaibou-nagano.jp
SUMMARY:刈払機取扱作業者安全衛生教育（終了しました。）
DESCRIPTION:
URL:https://rinsaibou-nagano.jp/event/%e5%88%88%e6%89%95%e6%a9%9f%e5%8f%96%e6%89%b1%e4%bd%9c%e6%a5%ad%e8%80%85%e5%ae%89%e5%85%a8%e8%a1%9b%e7%94%9f%e6%95%99%e8%82%b2-3/
END:VEVENT
BEGIN:VEVENT
DTSTART;TZID=Asia/Tokyo:20220216T090000
DTEND;TZID=Asia/Tokyo:20220218T123000
DTSTAMP:20260424T213417
CREATED:20211209T061845Z
LAST-MODIFIED:20220318T073342Z
UID:593-1645002000-1645187400@rinsaibou-nagano.jp
SUMMARY:伐木特別教育（終了しました。）
DESCRIPTION:
URL:https://rinsaibou-nagano.jp/event/%e4%bc%90%e6%9c%a8%e7%89%b9%e5%88%a5%e6%95%99%e8%82%b2-3/
END:VEVENT
BEGIN:VEVENT
DTSTART;TZID=Asia/Tokyo:20220224T090000
DTEND;TZID=Asia/Tokyo:20220224T163000
DTSTAMP:20260424T213417
CREATED:20211209T064746Z
LAST-MODIFIED:20220318T073408Z
UID:606-1645693200-1645720200@rinsaibou-nagano.jp
SUMMARY:伐木等業務（チェーンソー）従事者安全衛生教育
DESCRIPTION:
URL:https://rinsaibou-nagano.jp/event/%e4%bc%90%e6%9c%a8%e7%ad%89%e6%a5%ad%e5%8b%99%ef%bc%88%e3%83%81%e3%82%a7%e3%83%bc%e3%83%b3%e3%82%bd%e3%83%bc%ef%bc%89%e5%be%93%e4%ba%8b%e8%80%85%e5%ae%89%e5%85%a8%e8%a1%9b%e7%94%9f%e6%95%99%e8%82%b2/
END:VEVENT
END:VCALENDAR