BEGIN:VCALENDAR
VERSION:2.0
PRODID:-//林業・木材製造業労働災害防止協会 長野県支部 - ECPv5.12.2//NONSGML v1.0//EN
CALSCALE:GREGORIAN
METHOD:PUBLISH
X-WR-CALNAME:林業・木材製造業労働災害防止協会 長野県支部
X-ORIGINAL-URL:https://rinsaibou-nagano.jp
X-WR-CALDESC:林業・木材製造業労働災害防止協会 長野県支部 のイベント
REFRESH-INTERVAL;VALUE=DURATION:PT1H
X-Robots-Tag:noindex
X-PUBLISHED-TTL:PT1H
BEGIN:VTIMEZONE
TZID:Asia/Tokyo
BEGIN:STANDARD
TZOFFSETFROM:+0900
TZOFFSETTO:+0900
TZNAME:JST
DTSTART:20220101T000000
END:STANDARD
END:VTIMEZONE
BEGIN:VEVENT
DTSTART;TZID=Asia/Tokyo:20220513T083000
DTEND;TZID=Asia/Tokyo:20220513T163000
DTSTAMP:20260424T181357
CREATED:20220204T072438Z
LAST-MODIFIED:20220428T044130Z
UID:922-1652430600-1652459400@rinsaibou-nagano.jp
SUMMARY:刈払機取扱作業者安全衛生教育（受付終了）
DESCRIPTION:
URL:https://rinsaibou-nagano.jp/event/%e5%88%88%e6%89%95%e6%a9%9f%e5%8f%96%e6%89%b1%e4%bd%9c%e6%a5%ad%e8%80%85%e5%ae%89%e5%85%a8%e8%a1%9b%e7%94%9f%e6%95%99%e8%82%b2-6/
END:VEVENT
BEGIN:VEVENT
DTSTART;TZID=Asia/Tokyo:20220516T093000
DTEND;TZID=Asia/Tokyo:20220516T120000
DTSTAMP:20260424T181357
CREATED:20220323T005516Z
LAST-MODIFIED:20220511T064001Z
UID:1163-1652693400-1652702400@rinsaibou-nagano.jp
SUMMARY:伐木等業務の補講（2.5時間）【受付終了】
DESCRIPTION:
URL:https://rinsaibou-nagano.jp/event/%e4%bc%90%e6%9c%a8%e7%ad%89%e6%a5%ad%e5%8b%99%e3%81%ae%e8%a3%9c%e8%ac%9b%ef%bc%882-5%e6%99%82%e9%96%93%ef%bc%89/
END:VEVENT
BEGIN:VEVENT
DTSTART;TZID=Asia/Tokyo:20220523T083000
DTEND;TZID=Asia/Tokyo:20220525T130000
DTSTAMP:20260424T181357
CREATED:20220204T065645Z
LAST-MODIFIED:20220509T015013Z
UID:911-1653294600-1653483600@rinsaibou-nagano.jp
SUMMARY:伐木特別教育【受付終了】
DESCRIPTION:
URL:https://rinsaibou-nagano.jp/event/%e4%bc%90%e6%9c%a8%e7%89%b9%e5%88%a5%e6%95%99%e8%82%b2-6/
END:VEVENT
BEGIN:VEVENT
DTSTART;TZID=Asia/Tokyo:20220530T083000
DTEND;TZID=Asia/Tokyo:20220531T163000
DTSTAMP:20260424T181357
CREATED:20220204T080259Z
LAST-MODIFIED:20220318T073146Z
UID:936-1653899400-1654014600@rinsaibou-nagano.jp
SUMMARY:（車両系）伐木等機械運転業務【受付終了】
DESCRIPTION:
URL:https://rinsaibou-nagano.jp/event/%ef%bc%88%e8%bb%8a%e4%b8%a1%e7%b3%bb%e6%9c%a8%e6%9d%90%e4%bc%90%e5%87%ba%e6%a9%9f%e6%a2%b0%ef%bc%89%e4%bc%90%e6%9c%a8%e7%ad%89%e6%a9%9f%e6%a2%b0%e9%81%8b%e8%bb%a2%e6%a5%ad%e5%8b%99/
END:VEVENT
END:VCALENDAR