BEGIN:VCALENDAR
VERSION:2.0
PRODID:-//林業・木材製造業労働災害防止協会 長野県支部 - ECPv5.12.2//NONSGML v1.0//EN
CALSCALE:GREGORIAN
METHOD:PUBLISH
X-WR-CALNAME:林業・木材製造業労働災害防止協会 長野県支部
X-ORIGINAL-URL:https://rinsaibou-nagano.jp
X-WR-CALDESC:林業・木材製造業労働災害防止協会 長野県支部 のイベント
REFRESH-INTERVAL;VALUE=DURATION:PT1H
X-Robots-Tag:noindex
X-PUBLISHED-TTL:PT1H
BEGIN:VTIMEZONE
TZID:Asia/Tokyo
BEGIN:STANDARD
TZOFFSETFROM:+0900
TZOFFSETTO:+0900
TZNAME:JST
DTSTART:20220101T000000
END:STANDARD
END:VTIMEZONE
BEGIN:VEVENT
DTSTART;TZID=Asia/Tokyo:20221107T085000
DTEND;TZID=Asia/Tokyo:20221109T124500
DTSTAMP:20260424T060806
CREATED:20220604T061504Z
LAST-MODIFIED:20221014T001035Z
UID:1352-1667811000-1667997900@rinsaibou-nagano.jp
SUMMARY:伐木特別教育【受付終了】
DESCRIPTION:
URL:https://rinsaibou-nagano.jp/event/%e4%bc%90%e6%9c%a8%e7%89%b9%e5%88%a5%e6%95%99%e8%82%b2-12/
END:VEVENT
BEGIN:VEVENT
DTSTART;TZID=Asia/Tokyo:20221114T083000
DTEND;TZID=Asia/Tokyo:20221114T163000
DTSTAMP:20260424T060806
CREATED:20220604T060715Z
LAST-MODIFIED:20221003T234441Z
UID:1341-1668414600-1668443400@rinsaibou-nagano.jp
SUMMARY:刈払機取扱作業者安全衛生教育【受付終了R4.10.4】
DESCRIPTION:
URL:https://rinsaibou-nagano.jp/event/%e5%88%88%e6%89%95%e6%a9%9f%e5%8f%96%e6%89%b1%e4%bd%9c%e6%a5%ad%e8%80%85%e5%ae%89%e5%85%a8%e8%a1%9b%e7%94%9f%e6%95%99%e8%82%b2-12/
END:VEVENT
BEGIN:VEVENT
DTSTART;TZID=Asia/Tokyo:20221121T085000
DTEND;TZID=Asia/Tokyo:20221128T161000
DTSTAMP:20260424T060806
CREATED:20220604T052528Z
LAST-MODIFIED:20220802T051009Z
UID:1316-1669020600-1669651800@rinsaibou-nagano.jp
SUMMARY:（車両系）伐木等機械運転業務（則36条第6の2号）【受付終了】
DESCRIPTION:
URL:https://rinsaibou-nagano.jp/event/%ef%bc%88%e8%bb%8a%e4%b8%a1%e7%b3%bb%ef%bc%89%e4%bc%90%e6%9c%a8%e7%ad%89%e6%a9%9f%e6%a2%b0%e9%81%8b%e8%bb%a2%e6%a5%ad%e5%8b%99%e5%89%8736%e6%9d%a1%e7%ac%ac6%e3%81%ae2%e5%8f%b7/
END:VEVENT
BEGIN:VEVENT
DTSTART;TZID=Asia/Tokyo:20221122T085000
DTEND;TZID=Asia/Tokyo:20221125T161000
DTSTAMP:20260424T060806
CREATED:20220604T054400Z
LAST-MODIFIED:20220810T035320Z
UID:1323-1669107000-1669392600@rinsaibou-nagano.jp
SUMMARY:（車両系）走行集材機械運転業務（則36条第6の3号）【受付終了】
DESCRIPTION:
URL:https://rinsaibou-nagano.jp/event/%ef%bc%88%e8%bb%8a%e4%b8%a1%e7%b3%bb%ef%bc%89%e8%b5%b0%e8%a1%8c%e9%9b%86%e6%9d%90%e6%a9%9f%e6%a2%b0%e9%81%8b%e8%bb%a2%e6%a5%ad%e5%8b%99%e5%89%8736%e6%9d%a1%e7%ac%ac6%e3%81%ae2%e5%8f%b7/
END:VEVENT
END:VCALENDAR