BEGIN:VCALENDAR
VERSION:2.0
PRODID:-//林業・木材製造業労働災害防止協会 長野県支部 - ECPv5.12.2//NONSGML v1.0//EN
CALSCALE:GREGORIAN
METHOD:PUBLISH
X-WR-CALNAME:林業・木材製造業労働災害防止協会 長野県支部
X-ORIGINAL-URL:https://rinsaibou-nagano.jp
X-WR-CALDESC:林業・木材製造業労働災害防止協会 長野県支部 のイベント
REFRESH-INTERVAL;VALUE=DURATION:PT1H
X-Robots-Tag:noindex
X-PUBLISHED-TTL:PT1H
BEGIN:VTIMEZONE
TZID:Asia/Tokyo
BEGIN:STANDARD
TZOFFSETFROM:+0900
TZOFFSETTO:+0900
TZNAME:JST
DTSTART:20230101T000000
END:STANDARD
END:VTIMEZONE
BEGIN:VEVENT
DTSTART;TZID=Asia/Tokyo:20230110T083000
DTEND;TZID=Asia/Tokyo:20230110T163000
DTSTAMP:20260424T023937
CREATED:20220604T060842Z
LAST-MODIFIED:20230201T022120Z
UID:1344-1673339400-1673368200@rinsaibou-nagano.jp
SUMMARY:刈払機取扱作業者安全衛生教育
DESCRIPTION:
URL:https://rinsaibou-nagano.jp/event/%e5%88%88%e6%89%95%e6%a9%9f%e5%8f%96%e6%89%b1%e4%bd%9c%e6%a5%ad%e8%80%85%e5%ae%89%e5%85%a8%e8%a1%9b%e7%94%9f%e6%95%99%e8%82%b2-13/
END:VEVENT
BEGIN:VEVENT
DTSTART;TZID=Asia/Tokyo:20230116T080000
DTEND;TZID=Asia/Tokyo:20230116T170000
DTSTAMP:20260424T023937
CREATED:20220604T063338Z
LAST-MODIFIED:20230111T052429Z
UID:1368-1673856000-1673888400@rinsaibou-nagano.jp
SUMMARY:林材業リスクアセスメント実務研修【開催中止】
DESCRIPTION:
URL:https://rinsaibou-nagano.jp/event/%e6%9e%97%e6%9d%90%e6%a5%ad%e3%83%aa%e3%82%b9%e3%82%af%e3%82%a2%e3%82%bb%e3%82%b9%e3%83%a1%e3%83%b3%e3%83%88%e5%ae%9f%e5%8b%99%e7%a0%94%e4%bf%ae-2/
END:VEVENT
BEGIN:VEVENT
DTSTART;TZID=Asia/Tokyo:20230118T083000
DTEND;TZID=Asia/Tokyo:20230120T130000
DTSTAMP:20260424T023937
CREATED:20220604T062057Z
LAST-MODIFIED:20221114T235902Z
UID:1362-1674030600-1674219600@rinsaibou-nagano.jp
SUMMARY:伐木特別教育【受付終了】
DESCRIPTION:
URL:https://rinsaibou-nagano.jp/event/%e4%bc%90%e6%9c%a8%e7%89%b9%e5%88%a5%e6%95%99%e8%82%b2-16/
END:VEVENT
END:VCALENDAR