BEGIN:VCALENDAR
VERSION:2.0
PRODID:-//林業・木材製造業労働災害防止協会 長野県支部 - ECPv5.12.2//NONSGML v1.0//EN
CALSCALE:GREGORIAN
METHOD:PUBLISH
X-WR-CALNAME:林業・木材製造業労働災害防止協会 長野県支部
X-ORIGINAL-URL:https://rinsaibou-nagano.jp
X-WR-CALDESC:林業・木材製造業労働災害防止協会 長野県支部 のイベント
REFRESH-INTERVAL;VALUE=DURATION:PT1H
X-Robots-Tag:noindex
X-PUBLISHED-TTL:PT1H
BEGIN:VTIMEZONE
TZID:Asia/Tokyo
BEGIN:STANDARD
TZOFFSETFROM:+0900
TZOFFSETTO:+0900
TZNAME:JST
DTSTART:20230101T000000
END:STANDARD
END:VTIMEZONE
BEGIN:VEVENT
DTSTART;TZID=Asia/Tokyo:20231004T083000
DTEND;TZID=Asia/Tokyo:20231004T170000
DTSTAMP:20260423T105854
CREATED:20230201T014223Z
LAST-MODIFIED:20231002T051108Z
UID:1673-1696408200-1696438800@rinsaibou-nagano.jp
SUMMARY:造林作業指揮者等安全衛生教育【受付終了】
DESCRIPTION:
URL:https://rinsaibou-nagano.jp/event/%e9%80%a0%e6%9e%97%e4%bd%9c%e6%a5%ad%e6%8c%87%e6%8f%ae%e8%80%85%e7%ad%89%e5%ae%89%e5%85%a8%e8%a1%9b%e7%94%9f%e6%95%99%e8%82%b2-4/
END:VEVENT
BEGIN:VEVENT
DTSTART;TZID=Asia/Tokyo:20231017T083000
DTEND;TZID=Asia/Tokyo:20231017T163000
DTSTAMP:20260423T105854
CREATED:20230131T080636Z
LAST-MODIFIED:20231005T025947Z
UID:1660-1697531400-1697560200@rinsaibou-nagano.jp
SUMMARY:【受付終了】刈払機取扱作業者安全衛生教育
DESCRIPTION:
URL:https://rinsaibou-nagano.jp/event/%e5%88%88%e6%89%95%e6%a9%9f%e5%8f%96%e6%89%b1%e4%bd%9c%e6%a5%ad%e8%80%85%e5%ae%89%e5%85%a8%e8%a1%9b%e7%94%9f%e6%95%99%e8%82%b2-24/
END:VEVENT
BEGIN:VEVENT
DTSTART;TZID=Asia/Tokyo:20231024T083000
DTEND;TZID=Asia/Tokyo:20231026T130000
DTSTAMP:20260423T105854
CREATED:20230131T075152Z
LAST-MODIFIED:20230822T060327Z
UID:1644-1698136200-1698325200@rinsaibou-nagano.jp
SUMMARY:伐木特別教育【受付終了】
DESCRIPTION:
URL:https://rinsaibou-nagano.jp/event/%e4%bc%90%e6%9c%a8%e7%89%b9%e5%88%a5%e6%95%99%e8%82%b2-23/
END:VEVENT
BEGIN:VEVENT
DTSTART;TZID=Asia/Tokyo:20231030T085000
DTEND;TZID=Asia/Tokyo:20231031T174000
DTSTAMP:20260423T105854
CREATED:20230201T014335Z
LAST-MODIFIED:20230921T232602Z
UID:1675-1698655800-1698774000@rinsaibou-nagano.jp
SUMMARY:【受付終了】（車両系）簡易架線集材装置等運転業務（則36条第7の2号）
DESCRIPTION:
URL:https://rinsaibou-nagano.jp/event/%ef%bc%88%e8%bb%8a%e4%b8%a1%e7%b3%bb%ef%bc%89%e7%b0%a1%e6%98%93%e6%9e%b6%e7%b7%9a%e9%9b%86%e6%9d%90%e8%a3%85%e7%bd%ae%e7%ad%89%e9%81%8b%e8%bb%a2%e6%a5%ad%e5%8b%99%ef%bc%88%e5%89%8736%e6%9d%a1-2/
END:VEVENT
END:VCALENDAR