BEGIN:VCALENDAR
VERSION:2.0
PRODID:-//林業・木材製造業労働災害防止協会 長野県支部 - ECPv5.12.2//NONSGML v1.0//EN
CALSCALE:GREGORIAN
METHOD:PUBLISH
X-WR-CALNAME:林業・木材製造業労働災害防止協会 長野県支部
X-ORIGINAL-URL:https://rinsaibou-nagano.jp
X-WR-CALDESC:林業・木材製造業労働災害防止協会 長野県支部 のイベント
REFRESH-INTERVAL;VALUE=DURATION:PT1H
X-Robots-Tag:noindex
X-PUBLISHED-TTL:PT1H
BEGIN:VTIMEZONE
TZID:Asia/Tokyo
BEGIN:STANDARD
TZOFFSETFROM:+0900
TZOFFSETTO:+0900
TZNAME:JST
DTSTART:20240101T000000
END:STANDARD
END:VTIMEZONE
BEGIN:VEVENT
DTSTART;VALUE=DATE:20240604
DTEND;VALUE=DATE:20240607
DTSTAMP:20260422T175121
CREATED:20240227T033453Z
LAST-MODIFIED:20240513T023755Z
UID:2198-1717459200-1717718399@rinsaibou-nagano.jp
SUMMARY:【受付終了】伐木特別教育
DESCRIPTION:
URL:https://rinsaibou-nagano.jp/event/%e4%bc%90%e6%9c%a8%e7%89%b9%e5%88%a5%e6%95%99%e8%82%b2-33/
CATEGORIES:塩尻
END:VEVENT
BEGIN:VEVENT
DTSTART;VALUE=DATE:20240610
DTEND;VALUE=DATE:20240611
DTSTAMP:20260422T175121
CREATED:20240227T032634Z
LAST-MODIFIED:20240515T232409Z
UID:2195-1717977600-1718063999@rinsaibou-nagano.jp
SUMMARY:【受付終了】刈払機取扱作業者安全衛生教育
DESCRIPTION:
URL:https://rinsaibou-nagano.jp/event/%e5%88%88%e6%89%95%e6%a9%9f%e5%8f%96%e6%89%b1%e4%bd%9c%e6%a5%ad%e8%80%85%e5%ae%89%e5%85%a8%e8%a1%9b%e7%94%9f%e6%95%99%e8%82%b2-30/
CATEGORIES:上田
END:VEVENT
BEGIN:VEVENT
DTSTART;TZID=Asia/Tokyo:20240611T083000
DTEND;TZID=Asia/Tokyo:20240613T130000
DTSTAMP:20260422T175121
CREATED:20240227T032313Z
LAST-MODIFIED:20240513T023943Z
UID:2193-1718094600-1718283600@rinsaibou-nagano.jp
SUMMARY:【受付終了】伐木特別教育
DESCRIPTION:
URL:https://rinsaibou-nagano.jp/event/%e4%bc%90%e6%9c%a8%e7%89%b9%e5%88%a5%e6%95%99%e8%82%b2-32/
CATEGORIES:上田
END:VEVENT
BEGIN:VEVENT
DTSTART;VALUE=DATE:20240617
DTEND;VALUE=DATE:20240618
DTSTAMP:20260422T175121
CREATED:20240227T033956Z
LAST-MODIFIED:20240626T054240Z
UID:2200-1718582400-1718668799@rinsaibou-nagano.jp
SUMMARY:【受付終了】刈払機取扱作業者安全衛生教育
DESCRIPTION:
URL:https://rinsaibou-nagano.jp/event/%e5%88%88%e6%89%95%e6%a9%9f%e5%8f%96%e6%89%b1%e4%bd%9c%e6%a5%ad%e8%80%85%e5%ae%89%e5%85%a8%e8%a1%9b%e7%94%9f%e6%95%99%e8%82%b2-31/
CATEGORIES:塩尻
END:VEVENT
END:VCALENDAR