BEGIN:VCALENDAR
VERSION:2.0
PRODID:-//林業・木材製造業労働災害防止協会 長野県支部 - ECPv5.12.2//NONSGML v1.0//EN
CALSCALE:GREGORIAN
METHOD:PUBLISH
X-WR-CALNAME:林業・木材製造業労働災害防止協会 長野県支部
X-ORIGINAL-URL:https://rinsaibou-nagano.jp
X-WR-CALDESC:林業・木材製造業労働災害防止協会 長野県支部 のイベント
REFRESH-INTERVAL;VALUE=DURATION:PT1H
X-Robots-Tag:noindex
X-PUBLISHED-TTL:PT1H
BEGIN:VTIMEZONE
TZID:Asia/Tokyo
BEGIN:STANDARD
TZOFFSETFROM:+0900
TZOFFSETTO:+0900
TZNAME:JST
DTSTART:20240101T000000
END:STANDARD
END:VTIMEZONE
BEGIN:VEVENT
DTSTART;VALUE=DATE:20241105
DTEND;VALUE=DATE:20241106
DTSTAMP:20260422T053408
CREATED:20240613T073320Z
LAST-MODIFIED:20241001T225421Z
UID:2397-1730764800-1730851199@rinsaibou-nagano.jp
SUMMARY:【受付終了】刈払機取扱作業者安全衛生教育
DESCRIPTION:
URL:https://rinsaibou-nagano.jp/event/%e5%88%88%e6%89%95%e6%a9%9f%e5%8f%96%e6%89%b1%e4%bd%9c%e6%a5%ad%e8%80%85%e5%ae%89%e5%85%a8%e8%a1%9b%e7%94%9f%e6%95%99%e8%82%b2-35/
CATEGORIES:長野
END:VEVENT
BEGIN:VEVENT
DTSTART;VALUE=DATE:20241111
DTEND;VALUE=DATE:20241112
DTSTAMP:20260422T053408
CREATED:20240625T072316Z
LAST-MODIFIED:20240807T020637Z
UID:2484-1731283200-1731369599@rinsaibou-nagano.jp
SUMMARY:【受付終了】伐木特別教育
DESCRIPTION:
URL:https://rinsaibou-nagano.jp/event/%e4%bc%90%e6%9c%a8%e7%89%b9%e5%88%a5%e6%95%99%e8%82%b2-35/
CATEGORIES:塩尻
END:VEVENT
BEGIN:VEVENT
DTSTART;VALUE=DATE:20241113
DTEND;VALUE=DATE:20241115
DTSTAMP:20260422T053408
CREATED:20240626T022941Z
LAST-MODIFIED:20240807T020835Z
UID:2489-1731456000-1731628799@rinsaibou-nagano.jp
SUMMARY:【受付終了】伐木特別教育
DESCRIPTION:
URL:https://rinsaibou-nagano.jp/event/%e4%bc%90%e6%9c%a8%e7%89%b9%e5%88%a5%e6%95%99%e8%82%b2-36/
CATEGORIES:塩尻
END:VEVENT
BEGIN:VEVENT
DTSTART;VALUE=DATE:20241120
DTEND;VALUE=DATE:20241121
DTSTAMP:20260422T053408
CREATED:20240613T072019Z
LAST-MODIFIED:20241017T053932Z
UID:2390-1732060800-1732147199@rinsaibou-nagano.jp
SUMMARY:【受付終了】（車両系）伐木等機械運転業務
DESCRIPTION:
URL:https://rinsaibou-nagano.jp/event/%ef%bc%88%e8%bb%8a%e4%b8%a1%e7%b3%bb%ef%bc%89%e4%bc%90%e6%9c%a8%e7%ad%89%e6%a9%9f%e6%a2%b0%e9%81%8b%e8%bb%a2%e6%a5%ad%e5%8b%99-3/
CATEGORIES:塩尻
END:VEVENT
BEGIN:VEVENT
DTSTART;VALUE=DATE:20241121
DTEND;VALUE=DATE:20241122
DTSTAMP:20260422T053408
CREATED:20240613T073040Z
LAST-MODIFIED:20241017T054128Z
UID:2393-1732147200-1732233599@rinsaibou-nagano.jp
SUMMARY:【受付終了】（車両系）走行集材機械運転業務（則36条第6の3号）
DESCRIPTION:
URL:https://rinsaibou-nagano.jp/event/%ef%bc%88%e8%bb%8a%e4%b8%a1%e7%b3%bb%ef%bc%89%e8%b5%b0%e8%a1%8c%e9%9b%86%e6%9d%90%e6%a9%9f%e6%a2%b0%e9%81%8b%e8%bb%a2%e6%a5%ad%e5%8b%99%ef%bc%88%e5%89%8736%e6%9d%a1/
CATEGORIES:塩尻
END:VEVENT
BEGIN:VEVENT
DTSTART;VALUE=DATE:20241125
DTEND;VALUE=DATE:20241127
DTSTAMP:20260422T053408
CREATED:20240626T024712Z
LAST-MODIFIED:20241017T054055Z
UID:2499-1732492800-1732665599@rinsaibou-nagano.jp
SUMMARY:【受付終了】（車両系）走行集材機械運転業務（則36条第6の3号）
DESCRIPTION:
URL:https://rinsaibou-nagano.jp/event/%ef%bc%88%e8%bb%8a%e4%b8%a1%e7%b3%bb%ef%bc%89%e8%b5%b0%e8%a1%8c%e9%9b%86%e6%9d%90%e6%a9%9f%e6%a2%b0%e9%81%8b%e8%bb%a2%e6%a5%ad%e5%8b%99%ef%bc%88%e5%89%8736%e6%9d%a1%e7%ac%ac6%e3%81%ae3%e5%8f%b7-2/
CATEGORIES:塩尻
END:VEVENT
BEGIN:VEVENT
DTSTART;VALUE=DATE:20241125
DTEND;VALUE=DATE:20241128
DTSTAMP:20260422T053408
CREATED:20240626T024101Z
LAST-MODIFIED:20241017T054537Z
UID:2493-1732492800-1732751999@rinsaibou-nagano.jp
SUMMARY:【受付終了】（車両系）伐木等機械運転業務
DESCRIPTION:
URL:https://rinsaibou-nagano.jp/event/%ef%bc%88%e8%bb%8a%e4%b8%a1%e7%b3%bb%ef%bc%89%e4%bc%90%e6%9c%a8%e7%ad%89%e6%a9%9f%e6%a2%b0%e9%81%8b%e8%bb%a2%e6%a5%ad%e5%8b%99-4/
CATEGORIES:塩尻
END:VEVENT
END:VCALENDAR