BEGIN:VCALENDAR
VERSION:2.0
PRODID:-//林業・木材製造業労働災害防止協会 長野県支部 - ECPv5.12.2//NONSGML v1.0//EN
CALSCALE:GREGORIAN
METHOD:PUBLISH
X-WR-CALNAME:林業・木材製造業労働災害防止協会 長野県支部
X-ORIGINAL-URL:https://rinsaibou-nagano.jp
X-WR-CALDESC:林業・木材製造業労働災害防止協会 長野県支部 のイベント
REFRESH-INTERVAL;VALUE=DURATION:PT1H
X-Robots-Tag:noindex
X-PUBLISHED-TTL:PT1H
BEGIN:VTIMEZONE
TZID:Asia/Tokyo
BEGIN:STANDARD
TZOFFSETFROM:+0900
TZOFFSETTO:+0900
TZNAME:JST
DTSTART:20250101T000000
END:STANDARD
END:VTIMEZONE
BEGIN:VEVENT
DTSTART;VALUE=DATE:20250513
DTEND;VALUE=DATE:20250514
DTSTAMP:20260421T200835
CREATED:20250224T174218Z
LAST-MODIFIED:20250417T233028Z
UID:2856-1747094400-1747180799@rinsaibou-nagano.jp
SUMMARY:【受付終了】刈払機取扱作業者安全衛生教育
DESCRIPTION:
URL:https://rinsaibou-nagano.jp/event/%e5%88%88%e6%89%95%e6%a9%9f%e5%8f%96%e6%89%b1%e4%bd%9c%e6%a5%ad%e8%80%85%e5%ae%89%e5%85%a8%e8%a1%9b%e7%94%9f%e6%95%99%e8%82%b2-41/
CATEGORIES:長野
END:VEVENT
BEGIN:VEVENT
DTSTART;VALUE=DATE:20250519
DTEND;VALUE=DATE:20250522
DTSTAMP:20260421T200835
CREATED:20250220T034021Z
LAST-MODIFIED:20250425T003111Z
UID:2800-1747612800-1747871999@rinsaibou-nagano.jp
SUMMARY:【受付終了】伐木特別教育
DESCRIPTION:
URL:https://rinsaibou-nagano.jp/event/%e4%bc%90%e6%9c%a8%e7%89%b9%e5%88%a5%e6%95%99%e8%82%b2-41/
CATEGORIES:塩尻
END:VEVENT
BEGIN:VEVENT
DTSTART;VALUE=DATE:20250526
DTEND;VALUE=DATE:20250531
DTSTAMP:20260421T200835
CREATED:20250224T172653Z
LAST-MODIFIED:20250417T233156Z
UID:2850-1748217600-1748649599@rinsaibou-nagano.jp
SUMMARY:【受付終了】（車両系）伐木等機械運転業務
DESCRIPTION:
URL:https://rinsaibou-nagano.jp/event/%ef%bc%88%e8%bb%8a%e4%b8%a1%e7%b3%bb%ef%bc%89%e4%bc%90%e6%9c%a8%e7%ad%89%e6%a9%9f%e6%a2%b0%e9%81%8b%e8%bb%a2%e6%a5%ad%e5%8b%99-5/
CATEGORIES:塩尻
END:VEVENT
END:VCALENDAR