BEGIN:VCALENDAR
VERSION:2.0
PRODID:-//林業・木材製造業労働災害防止協会 長野県支部 - ECPv5.12.2//NONSGML v1.0//EN
CALSCALE:GREGORIAN
METHOD:PUBLISH
X-WR-CALNAME:林業・木材製造業労働災害防止協会 長野県支部
X-ORIGINAL-URL:https://rinsaibou-nagano.jp
X-WR-CALDESC:林業・木材製造業労働災害防止協会 長野県支部 のイベント
REFRESH-INTERVAL;VALUE=DURATION:PT1H
X-Robots-Tag:noindex
X-PUBLISHED-TTL:PT1H
BEGIN:VTIMEZONE
TZID:Asia/Tokyo
BEGIN:STANDARD
TZOFFSETFROM:+0900
TZOFFSETTO:+0900
TZNAME:JST
DTSTART:20220101T000000
END:STANDARD
END:VTIMEZONE
BEGIN:VEVENT
DTSTART;TZID=Asia/Tokyo:20220914T083000
DTEND;TZID=Asia/Tokyo:20220916T130000
DTSTAMP:20260424T111631
CREATED:20220204T071842Z
LAST-MODIFIED:20220720T015423Z
UID:920-1663144200-1663333200@rinsaibou-nagano.jp
SUMMARY:伐木特別教育【7/20受付終了】
DESCRIPTION:
URL:https://rinsaibou-nagano.jp/event/%e4%bc%90%e6%9c%a8%e7%89%b9%e5%88%a5%e6%95%99%e8%82%b2-10/
END:VEVENT
END:VCALENDAR