BEGIN:VCALENDAR
VERSION:2.0
PRODID:-//林業・木材製造業労働災害防止協会 長野県支部 - ECPv5.12.2//NONSGML v1.0//EN
CALSCALE:GREGORIAN
METHOD:PUBLISH
X-WR-CALNAME:林業・木材製造業労働災害防止協会 長野県支部
X-ORIGINAL-URL:https://rinsaibou-nagano.jp
X-WR-CALDESC:林業・木材製造業労働災害防止協会 長野県支部 のイベント
REFRESH-INTERVAL;VALUE=DURATION:PT1H
X-Robots-Tag:noindex
X-PUBLISHED-TTL:PT1H
BEGIN:VTIMEZONE
TZID:Asia/Tokyo
BEGIN:STANDARD
TZOFFSETFROM:+0900
TZOFFSETTO:+0900
TZNAME:JST
DTSTART:20230101T000000
END:STANDARD
END:VTIMEZONE
BEGIN:VEVENT
DTSTART;TZID=Asia/Tokyo:20230407T093000
DTEND;TZID=Asia/Tokyo:20230407T120000
DTSTAMP:20260423T230735
CREATED:20230213T071726Z
LAST-MODIFIED:20230411T051324Z
UID:1733-1680859800-1680868800@rinsaibou-nagano.jp
SUMMARY:伐木等業務の補講（2.5時間）【終了しました】
DESCRIPTION:
URL:https://rinsaibou-nagano.jp/event/%e4%bc%90%e6%9c%a8%e7%ad%89%e6%a5%ad%e5%8b%99%e3%81%ae%e8%a3%9c%e8%ac%9b%ef%bc%882-5%e6%99%82%e9%96%93%ef%bc%89-2/
END:VEVENT
END:VCALENDAR