BEGIN:VCALENDAR
VERSION:2.0
PRODID:-//林業・木材製造業労働災害防止協会 長野県支部 - ECPv5.12.2//NONSGML v1.0//EN
CALSCALE:GREGORIAN
METHOD:PUBLISH
X-WR-CALNAME:林業・木材製造業労働災害防止協会 長野県支部
X-ORIGINAL-URL:https://rinsaibou-nagano.jp
X-WR-CALDESC:林業・木材製造業労働災害防止協会 長野県支部 のイベント
REFRESH-INTERVAL;VALUE=DURATION:PT1H
X-Robots-Tag:noindex
X-PUBLISHED-TTL:PT1H
BEGIN:VTIMEZONE
TZID:Asia/Tokyo
BEGIN:STANDARD
TZOFFSETFROM:+0900
TZOFFSETTO:+0900
TZNAME:JST
DTSTART:20230101T000000
END:STANDARD
END:VTIMEZONE
BEGIN:VEVENT
DTSTART;TZID=Asia/Tokyo:20230928T083000
DTEND;TZID=Asia/Tokyo:20230928T170000
DTSTAMP:20260423T125037
CREATED:20230201T014028Z
LAST-MODIFIED:20231002T050904Z
UID:1671-1695889800-1695920400@rinsaibou-nagano.jp
SUMMARY:造林作業指揮者等安全衛生教育【受付終了】
DESCRIPTION:
URL:https://rinsaibou-nagano.jp/event/%e9%80%a0%e6%9e%97%e4%bd%9c%e6%a5%ad%e6%8c%87%e6%8f%ae%e8%80%85%e7%ad%89%e5%ae%89%e5%85%a8%e8%a1%9b%e7%94%9f%e6%95%99%e8%82%b2-3/
END:VEVENT
END:VCALENDAR